BEGIN:VCALENDAR
VERSION:2.0
PRODID:-//TRL Kansas - ECPv6.15.20//NONSGML v1.0//EN
CALSCALE:GREGORIAN
METHOD:PUBLISH
X-WR-CALNAME:TRL Kansas
X-ORIGINAL-URL:https://ks.thereadingleague.org
X-WR-CALDESC:Events for TRL Kansas
REFRESH-INTERVAL;VALUE=DURATION:PT1H
X-Robots-Tag:noindex
X-PUBLISHED-TTL:PT1H
BEGIN:VTIMEZONE
TZID:America/Chicago
BEGIN:DAYLIGHT
TZOFFSETFROM:-0600
TZOFFSETTO:-0500
TZNAME:CDT
DTSTART:20230312T080000
END:DAYLIGHT
BEGIN:STANDARD
TZOFFSETFROM:-0500
TZOFFSETTO:-0600
TZNAME:CST
DTSTART:20231105T070000
END:STANDARD
BEGIN:DAYLIGHT
TZOFFSETFROM:-0600
TZOFFSETTO:-0500
TZNAME:CDT
DTSTART:20240310T080000
END:DAYLIGHT
BEGIN:STANDARD
TZOFFSETFROM:-0500
TZOFFSETTO:-0600
TZNAME:CST
DTSTART:20241103T070000
END:STANDARD
BEGIN:DAYLIGHT
TZOFFSETFROM:-0600
TZOFFSETTO:-0500
TZNAME:CDT
DTSTART:20250309T080000
END:DAYLIGHT
BEGIN:STANDARD
TZOFFSETFROM:-0500
TZOFFSETTO:-0600
TZNAME:CST
DTSTART:20251102T070000
END:STANDARD
END:VTIMEZONE
BEGIN:VTIMEZONE
TZID:America/New_York
BEGIN:DAYLIGHT
TZOFFSETFROM:-0500
TZOFFSETTO:-0400
TZNAME:EDT
DTSTART:20230312T070000
END:DAYLIGHT
BEGIN:STANDARD
TZOFFSETFROM:-0400
TZOFFSETTO:-0500
TZNAME:EST
DTSTART:20231105T060000
END:STANDARD
BEGIN:DAYLIGHT
TZOFFSETFROM:-0500
TZOFFSETTO:-0400
TZNAME:EDT
DTSTART:20240310T070000
END:DAYLIGHT
BEGIN:STANDARD
TZOFFSETFROM:-0400
TZOFFSETTO:-0500
TZNAME:EST
DTSTART:20241103T060000
END:STANDARD
BEGIN:DAYLIGHT
TZOFFSETFROM:-0500
TZOFFSETTO:-0400
TZNAME:EDT
DTSTART:20250309T070000
END:DAYLIGHT
BEGIN:STANDARD
TZOFFSETFROM:-0400
TZOFFSETTO:-0500
TZNAME:EST
DTSTART:20251102T060000
END:STANDARD
END:VTIMEZONE
BEGIN:VEVENT
DTSTART;TZID=America/Chicago:20240522T180000
DTEND;TZID=America/Chicago:20240522T190000
DTSTAMP:20260425T095753
CREATED:20240412T012311Z
LAST-MODIFIED:20240420T192729Z
UID:10000023-1716400800-1716404400@ks.thereadingleague.org
SUMMARY:Preparing to Teach your Deaf and Hard of Hearing Students Foundational Reading
DESCRIPTION:
URL:https://ks.thereadingleague.org/calendar/preparing-to-teach-your-deaf-and-hard-of-hearing-students-foundational-reading/
LOCATION:Live Webinar
END:VEVENT
BEGIN:VEVENT
DTSTART;TZID=America/New_York:20240404T180000
DTEND;TZID=America/New_York:20240404T190000
DTSTAMP:20260425T095753
CREATED:20240111T223950Z
LAST-MODIFIED:20240111T223950Z
UID:10000022-1712253600-1712257200@ks.thereadingleague.org
SUMMARY:The Not So Simple View of Writing
DESCRIPTION:
URL:https://ks.thereadingleague.org/calendar/the-not-so-simple-view-of-writing/
LOCATION:Live Webinar
END:VEVENT
BEGIN:VEVENT
DTSTART;TZID=America/Chicago:20240304T180000
DTEND;TZID=America/Chicago:20240304T190000
DTSTAMP:20260425T095753
CREATED:20240111T223804Z
LAST-MODIFIED:20240111T223804Z
UID:10000021-1709575200-1709578800@ks.thereadingleague.org
SUMMARY:Practical Strategies for Teachers
DESCRIPTION:
URL:https://ks.thereadingleague.org/calendar/practical-strategies-for-teachers/
LOCATION:Live Webinar
END:VEVENT
END:VCALENDAR